BEGIN:VCALENDAR
VERSION:2.0
PRODID:-//Champlain Valley Farmer Coalition - ECPv6.15.20//NONSGML v1.0//EN
CALSCALE:GREGORIAN
METHOD:PUBLISH
X-ORIGINAL-URL:https://cvfc-vt.com
X-WR-CALDESC:Events for Champlain Valley Farmer Coalition
REFRESH-INTERVAL;VALUE=DURATION:PT1H
X-Robots-Tag:noindex
X-PUBLISHED-TTL:PT1H
BEGIN:VTIMEZONE
TZID:America/New_York
BEGIN:DAYLIGHT
TZOFFSETFROM:-0500
TZOFFSETTO:-0400
TZNAME:EDT
DTSTART:20250309T070000
END:DAYLIGHT
BEGIN:STANDARD
TZOFFSETFROM:-0400
TZOFFSETTO:-0500
TZNAME:EST
DTSTART:20251102T060000
END:STANDARD
BEGIN:DAYLIGHT
TZOFFSETFROM:-0500
TZOFFSETTO:-0400
TZNAME:EDT
DTSTART:20260308T070000
END:DAYLIGHT
BEGIN:STANDARD
TZOFFSETFROM:-0400
TZOFFSETTO:-0500
TZNAME:EST
DTSTART:20261101T060000
END:STANDARD
BEGIN:DAYLIGHT
TZOFFSETFROM:-0500
TZOFFSETTO:-0400
TZNAME:EDT
DTSTART:20270314T070000
END:DAYLIGHT
BEGIN:STANDARD
TZOFFSETFROM:-0400
TZOFFSETTO:-0500
TZNAME:EST
DTSTART:20271107T060000
END:STANDARD
END:VTIMEZONE
BEGIN:VEVENT
DTSTART;TZID=America/New_York:20260128T113000
DTEND;TZID=America/New_York:20260128T123000
DTSTAMP:20260423T053318
CREATED:20260116T154644Z
LAST-MODIFIED:20260123T211752Z
UID:5842-1769599800-1769603400@cvfc-vt.com
SUMMARY:Soil Health Workshop
DESCRIPTION:UVM Extension and the Champlain Valley Farmer Coalition (CVFC) will host a soil health workshop on January 28 from 11:30 am – 12:30 pm at the UVM Extension Office in Middlebury (23 Pond Lane\, Middlebury\, VT 05753).  \nThis workshop will be focused on the new suite of soil health tests available through the SHREC Lab. It will introduce participants to what these tests measure\, how they differ from standard soil tests\, and the practical benefits they can provide for on-farm decision-making.   \nDuring the session\, we will: \n\nwalk through proper soil sampling techniques\ndiscuss which fields or management scenarios are best suited for soil health testing\nexplain the key indicators included in the SHREC soil health report\, such as measures related to soil structure\, biological activity\, and nutrient cycling\n\nParticipants will gain a clearer understanding of how these indicators can be interpreted and used to inform management decisions related to crop productivity\, nutrient management\, and long-term soil resilience. \nPlease note that lunch will not be provided at this event. We encourage attendees to bring their own lunch. Thank you for your understanding.
URL:https://cvfc-vt.com/event/soil-health-workshop/
ORGANIZER;CN="Champlain Valley Farmer Coalition":MAILTO:info@cvfc-vt.com
END:VEVENT
BEGIN:VEVENT
DTSTART;VALUE=DATE:20260130
DTEND;VALUE=DATE:20260201
DTSTAMP:20260423T053318
CREATED:20260121T155516Z
LAST-MODIFIED:20260121T155516Z
UID:5872-1769731200-1769903999@cvfc-vt.com
SUMMARY:2026 Northeast Grazing & Livestock Conference
DESCRIPTION:A Confluence of the Northeast Grazing & Livestock Conference & the Northeast Pasture Consortium Annual Meeting.\nA deep dive into topics specific to raising pasture-based livestock in the Northeast. \nJanuary 30-31\, 2026 | In-Person at DoubleTree in Manchester\, New Hampshire or Online via Whova
URL:https://cvfc-vt.com/event/2026-northeast-grazing-livestock-conference/
LOCATION:DoubleTree by Hilton Manchester Downtown\, 700 Elm Street\, Manchester\, NH\, 03101\, United States
END:VEVENT
END:VCALENDAR