BEGIN:VCALENDAR
VERSION:2.0
PRODID:-//Champlain Valley Farmer Coalition - ECPv6.15.20//NONSGML v1.0//EN
CALSCALE:GREGORIAN
METHOD:PUBLISH
X-WR-CALNAME:Champlain Valley Farmer Coalition
X-ORIGINAL-URL:https://cvfc-vt.com
X-WR-CALDESC:Events for Champlain Valley Farmer Coalition
REFRESH-INTERVAL;VALUE=DURATION:PT1H
X-Robots-Tag:noindex
X-PUBLISHED-TTL:PT1H
BEGIN:VTIMEZONE
TZID:America/New_York
BEGIN:DAYLIGHT
TZOFFSETFROM:-0500
TZOFFSETTO:-0400
TZNAME:EDT
DTSTART:20250309T070000
END:DAYLIGHT
BEGIN:STANDARD
TZOFFSETFROM:-0400
TZOFFSETTO:-0500
TZNAME:EST
DTSTART:20251102T060000
END:STANDARD
BEGIN:DAYLIGHT
TZOFFSETFROM:-0500
TZOFFSETTO:-0400
TZNAME:EDT
DTSTART:20260308T070000
END:DAYLIGHT
BEGIN:STANDARD
TZOFFSETFROM:-0400
TZOFFSETTO:-0500
TZNAME:EST
DTSTART:20261101T060000
END:STANDARD
BEGIN:DAYLIGHT
TZOFFSETFROM:-0500
TZOFFSETTO:-0400
TZNAME:EDT
DTSTART:20270314T070000
END:DAYLIGHT
BEGIN:STANDARD
TZOFFSETFROM:-0400
TZOFFSETTO:-0500
TZNAME:EST
DTSTART:20271107T060000
END:STANDARD
END:VTIMEZONE
BEGIN:VEVENT
DTSTART;TZID=America/New_York:20260318T090000
DTEND;TZID=America/New_York:20260318T170000
DTSTAMP:20260423T053450
CREATED:20260121T163912Z
LAST-MODIFIED:20260121T163912Z
UID:5888-1773824400-1773853200@cvfc-vt.com
SUMMARY:2026 Grain Growers Conference
DESCRIPTION:Join the University of Vermont Extension Northwest Crops and Soils Program and Northern Grain Growers Collaborative (NGGC) for the Annual Grain Growers Conference. Hear presentations from grain growers\, bakers\, millers\, and more; participate in our Baker’s Showcase; and network with others.
URL:https://cvfc-vt.com/event/2026-grain-growers-conference/
LOCATION:The Essex Resort & Spa\, 70 Essex Way\, Essex\, VT\, 05452\, United States
ORGANIZER;CN="UVM Extension Northwest Crops &amp%3B Soils Program":MAILTO:susan.brouillette@uvm.edu
END:VEVENT
BEGIN:VEVENT
DTSTART;TZID=America/New_York:20260401T113000
DTEND;TZID=America/New_York:20260401T130000
DTSTAMP:20260423T053450
CREATED:20260218T200521Z
LAST-MODIFIED:20260218T200521Z
UID:6054-1775043000-1775048400@cvfc-vt.com
SUMMARY:Pesticide Rules\, Seed Treatments & Compliance Updates for Vermont Farmers and Applicators
DESCRIPTION:Join the Champlain Valley Farmer Coalition and UVM Extension for a roundtable on key regulatory changes and compliance requirements affecting pesticide use and treated seed in Vermont. \n\n\nSteve Dwinell\, Director of the Division of Plant Industry at the Vermont Agency of Agriculture\, will explain what’s changing\, which requirements apply to your operation\, and how to stay in compliance. Bring your questions – this session is designed for discussion. \n\n\nTopics will include: \n\n\nThe newly adopted rule on Best Management Practices (BMPs) for neonicotinoid-treated seed\nNew pesticide label directions tied to the EPA’s Endangered Species Act (ESA) compliance strategy\nRespirator use requirements on pesticide labels and available compliance assistance\nKey considerations for Worker Protection Standard (WPS) compliance\nOverview of FieldWatch Registries by Sydney Miller\, FieldWatch Data Steward\n\nLunch provided.
URL:https://cvfc-vt.com/event/pesticide-rules-seed-treatments-compliance-updates-for-vermont-farmers-and-applicators/
LOCATION:UVM Extension – Middlebury\, 23 Pond Lane\, Middlebury\, VT\, 05753
ORGANIZER;CN="Champlain Valley Farmer Coalition":MAILTO:info@cvfc-vt.com
END:VEVENT
BEGIN:VEVENT
DTSTART;TZID=America/New_York:20260429T113000
DTEND;TZID=America/New_York:20260429T123000
DTSTAMP:20260423T053450
CREATED:20260327T170159Z
LAST-MODIFIED:20260327T170159Z
UID:6275-1777462200-1777465800@cvfc-vt.com
SUMMARY:Tri-State Dairy Exchange Webinar Series: Integrated Farming Solutions with Dairy One\, Inc.
DESCRIPTION:Join the team of Dairy Extension Professionals from UMaine\, UNH\, and UVM for live monthly webinars on the last Wednesday of\neach month from 11:30 a.m. – 12:30 p.m about innovative technology in the dairy sector\, Extension and industry research\, and\nprograms happening in the tri-state region. In 2026\, webinars will focus on a different topic each quarter. In April\, May\, and June\,\nwebinars will focus on precision agriculture technology and systems that support decision making from the field to the barn. \nDairy One\, Inc. provides an integrated suite of laboratory\, data\, and technology services designed to empower dairy and livestock\nproducers with the information and tools needed to support decision making. From soil and forage analysis to milk testing\, herd\nmanagement software\, and agronomic consulting\, learn how their team uses data-driven tools and systems to help farms enhance\nproductivity\, animal health\, and operational efficiency. Presenters will speak to systems that work from the barn to the field and\nthat address lameness\, feed management\, and crop management.
URL:https://cvfc-vt.com/event/tri-state-dairy-exchange-webinar-series-integrated-farming-solutions-with-dairy-one-inc/
LOCATION:Zoom
ATTACH;FMTTYPE=image/jpeg:https://cvfc-vt.com/wp-content/uploads/2026/03/Tri-State-Dairy-Exchange-Webinar-Integrated-Farming-Solutions-with-Dairy-One-Inc.jpg
ORGANIZER;CN="UVM Extension Northwest Crops &amp%3B Soils Program":MAILTO:susan.brouillette@uvm.edu
END:VEVENT
END:VCALENDAR