BEGIN:VCALENDAR
VERSION:2.0
PRODID:-//Champlain Valley Farmer Coalition - ECPv6.15.20//NONSGML v1.0//EN
CALSCALE:GREGORIAN
METHOD:PUBLISH
X-ORIGINAL-URL:https://cvfc-vt.com
X-WR-CALDESC:Events for Champlain Valley Farmer Coalition
REFRESH-INTERVAL;VALUE=DURATION:PT1H
X-Robots-Tag:noindex
X-PUBLISHED-TTL:PT1H
BEGIN:VTIMEZONE
TZID:America/New_York
BEGIN:DAYLIGHT
TZOFFSETFROM:-0500
TZOFFSETTO:-0400
TZNAME:EDT
DTSTART:20250309T070000
END:DAYLIGHT
BEGIN:STANDARD
TZOFFSETFROM:-0400
TZOFFSETTO:-0500
TZNAME:EST
DTSTART:20251102T060000
END:STANDARD
BEGIN:DAYLIGHT
TZOFFSETFROM:-0500
TZOFFSETTO:-0400
TZNAME:EDT
DTSTART:20260308T070000
END:DAYLIGHT
BEGIN:STANDARD
TZOFFSETFROM:-0400
TZOFFSETTO:-0500
TZNAME:EST
DTSTART:20261101T060000
END:STANDARD
BEGIN:DAYLIGHT
TZOFFSETFROM:-0500
TZOFFSETTO:-0400
TZNAME:EDT
DTSTART:20270314T070000
END:DAYLIGHT
BEGIN:STANDARD
TZOFFSETFROM:-0400
TZOFFSETTO:-0500
TZNAME:EST
DTSTART:20271107T060000
END:STANDARD
END:VTIMEZONE
BEGIN:VEVENT
DTSTART;TZID=America/New_York:20260306T100000
DTEND;TZID=America/New_York:20260306T153000
DTSTAMP:20260423T040832
CREATED:20260122T192421Z
LAST-MODIFIED:20260122T192638Z
UID:5892-1772791200-1772811000@cvfc-vt.com
SUMMARY:2026 VT Organic Dairy Producers Conference
DESCRIPTION:WHEN: Friday\, March 6\, 2026\nTIME: 10:00 a.m. to 3:30 p.m. Registration starting at 9:00 a.m.\nWHERE: Vermont State University\, Randolph Campus Judd Hall\, 124 Admin Drive\, Randolph Ctr\, V \nFollowing are the topic highlights that will each have a related farmer panel. We will also have updates on local and regional organic dairy research. \n\nInnovations to Improve Labor Efficiency\nTechnologies for Monitoring Cow Activity\, Health\, and Performance\nForage Renovation and Management\n\nThe conference registration site will be open soon but is not yet available to register. \nConference cost will be $25 per person. \nWe welcome sponsors and exhibitors this year as well. When the registration site is open\, you can submit a request. You can view the Sponsor and Exhibitor form here. \nCheck our Conferences website for updates and the open registration link when available.
URL:https://cvfc-vt.com/event/2026-vt-organic-dairy-producers-conference/
END:VEVENT
END:VCALENDAR