BEGIN:VCALENDAR
VERSION:2.0
PRODID:-//Champlain Valley Farmer Coalition - ECPv6.15.20//NONSGML v1.0//EN
CALSCALE:GREGORIAN
METHOD:PUBLISH
X-ORIGINAL-URL:https://cvfc-vt.com
X-WR-CALDESC:Events for Champlain Valley Farmer Coalition
REFRESH-INTERVAL;VALUE=DURATION:PT1H
X-Robots-Tag:noindex
X-PUBLISHED-TTL:PT1H
BEGIN:VTIMEZONE
TZID:America/New_York
BEGIN:DAYLIGHT
TZOFFSETFROM:-0500
TZOFFSETTO:-0400
TZNAME:EDT
DTSTART:20250309T070000
END:DAYLIGHT
BEGIN:STANDARD
TZOFFSETFROM:-0400
TZOFFSETTO:-0500
TZNAME:EST
DTSTART:20251102T060000
END:STANDARD
BEGIN:DAYLIGHT
TZOFFSETFROM:-0500
TZOFFSETTO:-0400
TZNAME:EDT
DTSTART:20260308T070000
END:DAYLIGHT
BEGIN:STANDARD
TZOFFSETFROM:-0400
TZOFFSETTO:-0500
TZNAME:EST
DTSTART:20261101T060000
END:STANDARD
BEGIN:DAYLIGHT
TZOFFSETFROM:-0500
TZOFFSETTO:-0400
TZNAME:EDT
DTSTART:20270314T070000
END:DAYLIGHT
BEGIN:STANDARD
TZOFFSETFROM:-0400
TZOFFSETTO:-0500
TZNAME:EST
DTSTART:20271107T060000
END:STANDARD
END:VTIMEZONE
BEGIN:VEVENT
DTSTART;TZID=America/New_York:20260227T100000
DTEND;TZID=America/New_York:20260227T120000
DTSTAMP:20260423T040953
CREATED:20260123T212447Z
LAST-MODIFIED:20260126T203014Z
UID:5905-1772186400-1772193600@cvfc-vt.com
SUMMARY:Hayland and Pasture Management for Conservation & Birds
DESCRIPTION:Join The Bobolink Project\, the Champlain Valley Farmer Coalition\, and the Vermont Grass Farmers Association for their upcoming farmer event: Hayland and Pasture Management for Conservation & Birds. This event brings together farmers and service providers to explore how working haylands and pastures can support grassland birds\, pollinators\, and soil and water quality. We’ll cover how to assess fields for bird- and bee-friendly habitat\, share practical management strategies\, and highlight resources and programs. Farmer and grazer perspectives are central to this discussion. What you share will directly influence future program design\, ongoing research\, and the development of bird-friendly pasture management strategies. All are welcome\, whether you’re new to these ideas or already doing this work. \nRegister here. \n 
URL:https://cvfc-vt.com/event/hayland-and-pasture-management-for-conservation-birds/
LOCATION:Ferrisburgh Town Hall\, 3279 US-7\, Ferrisburgh\, VT\, 05456\, United States
ORGANIZER;CN="Champlain Valley Farmer Coalition":MAILTO:info@cvfc-vt.com
END:VEVENT
END:VCALENDAR